BEGIN:VCALENDAR
VERSION:2.0
PRODID:-//ChamberMaster//Event Calendar 2.0//EN
METHOD:PUBLISH
X-PUBLISHED-TTL:P3D
REFRESH-INTERVAL:P3D
CALSCALE:GREGORIAN
BEGIN:VEVENT
DTSTART:20210109T183000Z
DTEND:20210109T190000Z
X-MICROSOFT-CDO-ALLDAYEVENT:FALSE
SUMMARY:Unveiling of a B-17G Tail Turret
DESCRIPTION:Attend the turret unveiling in person or via Facebook Live! It is our great pleasure to announce the official unveiling of a fully-restored B-17 G tail turret this Saturday\, January 9th at 11:30 AM. On loan from author Nick Veronico\, the turret gives us an even greater understanding of the harsh realities of aviation combat the men of the 390th braved each time they took to the skies. Join us at the 390th Memorial Museum and the Manhattan Dolls in celebrating the tail turret's arrival. Can't attend in person? NO PROBLEM! Search @390thMMF on Facebook\, follow our page\, and at 11:30 standby for the live event to join us virtually!
X-ALT-DESC;FMTTYPE=text/html:Attend the turret unveiling in person or via Facebook Live! It is our great pleasure to announce the official unveiling of a fully-restored B-17 G tail turret this Saturday\, January 9th at 11:30 AM. On loan from author Nick Veronico\, the turret gives us an even greater understanding of the harsh realities of aviation combat the men of the 390th braved each time they took to the skies. Join us at the 390th Memorial Museum and the Manhattan Dolls in celebrating the tail turret&rsquo\;s arrival. Can&rsquo\;t attend in person? NO PROBLEM! Search @390thMMF on Facebook\, follow our page\, and at 11:30 standby for the live event to join us virtually!
LOCATION:The 390th Memorial Museum on the grounds of the Pima Air and Space Museum. 6000 E. Valencia Rd. Tucson\, AZ 85756
UID:e.3328.384
SEQUENCE:3
DTSTAMP:20260420T115017Z
URL:https://www.greatervailchamber.com/events/details/unveiling-of-a-b-17g-tail-turret-384
END:VEVENT

END:VCALENDAR
