BEGIN:VCALENDAR
VERSION:2.0
PRODID:-//ChamberMaster//Event Calendar 2.0//EN
METHOD:PUBLISH
X-PUBLISHED-TTL:P3D
REFRESH-INTERVAL:P3D
CALSCALE:GREGORIAN
BEGIN:VEVENT
DTSTART:20230519T183000Z
DTEND:20230519T193000Z
X-MICROSOFT-CDO-ALLDAYEVENT:FALSE
SUMMARY:Shot Down | Book Talk by the Author
DESCRIPTION:Join us on a journey of discovery as we explore the incredible true story of one pilot's harrowing experiences during World War II.\n\n\n\nHear firsthand accounts of how 306th Bomb Group's Susan Ruth crash landed in enemy territory. Listen to the tale of how the crew evaded the enemy with help from the Belgian Underground and the French Resistance. Delve into the rich history and culture of U.S. Army Air Forces and gain a greater understanding of what life was like as a B-17 crew during World War II.
X-ALT-DESC;FMTTYPE=text/html:<p><strong>Join us on a journey of discovery as we explore the incredible true story of one pilot&#39\;s harrowing experiences during World War II.</strong><br />\n<br />\n<strong>Hear firsthand accounts of how&nbsp\;306th Bomb Group&#39\;s&nbsp\;<em>Susan Ruth</em>&nbsp\;crash landed in enemy territory.&nbsp\;Listen to the tale of how the crew evaded the enemy with help from the Belgian Underground and&nbsp\;the French Resistance. Delve into the rich history and culture of U.S. Army Air Forces and gain a greater understanding of what life was like as a B-17 crew during World War II.</strong></p>\n
LOCATION:390th Memorial Museum 6000 E. Valencia Rd. Tucson\, AZ
UID:e.3328.856
SEQUENCE:3
DTSTAMP:20260424T182828Z
URL:https://www.greatervailchamber.com/events/details/shot-down-book-talk-by-the-author-856
END:VEVENT

END:VCALENDAR
